BEGIN:VCALENDAR
VERSION:2.0
PRODID:-//Foxys Bar Jost Van Dyke BVI - ECPv6.15.20//NONSGML v1.0//EN
CALSCALE:GREGORIAN
METHOD:PUBLISH
X-WR-CALNAME:Foxys Bar Jost Van Dyke BVI
X-ORIGINAL-URL:https://foxysbar.com
X-WR-CALDESC:Events for Foxys Bar Jost Van Dyke BVI
REFRESH-INTERVAL;VALUE=DURATION:PT1H
X-Robots-Tag:noindex
X-PUBLISHED-TTL:PT1H
BEGIN:VTIMEZONE
TZID:America/Halifax
BEGIN:DAYLIGHT
TZOFFSETFROM:-0400
TZOFFSETTO:-0300
TZNAME:ADT
DTSTART:20240310T060000
END:DAYLIGHT
BEGIN:STANDARD
TZOFFSETFROM:-0300
TZOFFSETTO:-0400
TZNAME:AST
DTSTART:20241103T050000
END:STANDARD
BEGIN:DAYLIGHT
TZOFFSETFROM:-0400
TZOFFSETTO:-0300
TZNAME:ADT
DTSTART:20250309T060000
END:DAYLIGHT
BEGIN:STANDARD
TZOFFSETFROM:-0300
TZOFFSETTO:-0400
TZNAME:AST
DTSTART:20251102T050000
END:STANDARD
BEGIN:DAYLIGHT
TZOFFSETFROM:-0400
TZOFFSETTO:-0300
TZNAME:ADT
DTSTART:20260308T060000
END:DAYLIGHT
BEGIN:STANDARD
TZOFFSETFROM:-0300
TZOFFSETTO:-0400
TZNAME:AST
DTSTART:20261101T050000
END:STANDARD
END:VTIMEZONE
BEGIN:VEVENT
DTSTART;TZID=America/Halifax:20250316T133000
DTEND;TZID=America/Halifax:20250316T223000
DTSTAMP:20260419T223836
CREATED:20250301T040032Z
LAST-MODIFIED:20250319T134735Z
UID:8053-1742131800-1742164200@foxysbar.com
SUMMARY:Family Fun Day - March 16\, 2025
DESCRIPTION:[vc_row][vc_column width=”1/2″] \n[vc_single_image image=”8042″ img_size=”large” alignment=”center” onclick=”link_image”][/vc_column][vc_column width=”1/2″][vc_column_text] \nJoin us at Foxy’s for an unforgettable Jost Lime & Dine event on beautiful Jost Van Dyke! \nRC Speed Boat Racing – Get in on the action! Bring the family and cheer on your favorite racers at our Model RC Speedboat competition. RC Boat Racing starts at 2:30 pm – Call 342-3042 to register! \nLive Music Lineup – Dance to the tunes of Island Bob\, Elvis King of Steel\, and DJ Terro all afternoon and into the evening. We’ve got the soundtrack for your fun-filled afternoon. \nPrizes & Giveaways – We’re handing out tons of fun prizes\, so make sure you stick around for a chance to win! \nFood & Drink Specials – Enjoy happy hour from 4–6 pm as a part of our Foxy’s Madness\, lunch will be served until 3 pm\, and dinner will be starting at 6:30 pm. Great food and refreshing drinks await! \nFerry Schedule: \n\nWest End to Jost Van Dyke: 1 pm\, 4 pm\, 6 pm\nJost Van Dyke to West End: 5 pm and 10:45 pm\n\nSo\, grab the family and join us for a day of racing\, music\, and good vibes at Jost Lime and Dine at Foxy’s! \n[/vc_column_text][/vc_column][/vc_row]
URL:https://foxysbar.com/event/family-fun-day-march-16th-2025/
CATEGORIES:blog,events,PAST EVENTS
END:VEVENT
BEGIN:VEVENT
DTSTART;TZID=America/Halifax:20250314T203000
DTEND;TZID=America/Halifax:20250314T203000
DTSTAMP:20260419T223836
CREATED:20250301T040046Z
LAST-MODIFIED:20250319T134658Z
UID:7850-1741984200-1741984200@foxysbar.com
SUMMARY:Full Moon Party - March 14\, 2025
DESCRIPTION:[vc_row][vc_column width=”1/2″][vc_single_image image=”7852″ img_size=”large” alignment=”center” onclick=”link_image”][/vc_column][vc_column width=”1/2″][vc_column_text] \nJoin us on Friday\, March 14th\, 2025\, for an unforgettable night under the stars! Whether you arrive by boat or sink your toes into the sand\, let the glowing full moon lead the way to Foxy’s for the party of the year! \nCatch the New Horizon Ferry Service Ltd from West End\, Tortola\, for a scenic\, late-night ride straight to the action! \nIndulge in mouthwatering Tamarind Ribs\, BBQ Chicken\, Grilled Mahi Mahi\, fresh salads\, veggies\, and all the delicious sides you can imagine. A true feast for your senses! \nGet into the rhythm of the night with live tunes and electrifying DJ beats. Plus\, enjoy a fire dancer performance that will light up the night sky. \nSip on crafted cocktails\, enjoy refreshing drinks\, and for the adventurous… don’t miss our magical tea to take your experience to the next level. \nWant to make it extra special? Reserve a spot for dinner and ensure you don’t miss out on the feast! \nOr just come for the party—either way\, it’s going to be legendary! \nMark your calendars and get ready to celebrate in style at Foxy’s! \n[/vc_column_text][/vc_column][/vc_row] \nCall: 1 (284) 495-9258 \nEmail: annie@foxysbar.com
URL:https://foxysbar.com/event/full-moon-party/
CATEGORIES:blog,events,PAST EVENTS
END:VEVENT
END:VCALENDAR