BEGIN:VCALENDAR
VERSION:2.0
PRODID:-//Foxys Bar Jost Van Dyke BVI - ECPv6.15.20//NONSGML v1.0//EN
CALSCALE:GREGORIAN
METHOD:PUBLISH
X-WR-CALNAME:Foxys Bar Jost Van Dyke BVI
X-ORIGINAL-URL:https://foxysbar.com
X-WR-CALDESC:Events for Foxys Bar Jost Van Dyke BVI
REFRESH-INTERVAL;VALUE=DURATION:PT1H
X-Robots-Tag:noindex
X-PUBLISHED-TTL:PT1H
BEGIN:VTIMEZONE
TZID:America/Halifax
BEGIN:DAYLIGHT
TZOFFSETFROM:-0400
TZOFFSETTO:-0300
TZNAME:ADT
DTSTART:20250309T060000
END:DAYLIGHT
BEGIN:STANDARD
TZOFFSETFROM:-0300
TZOFFSETTO:-0400
TZNAME:AST
DTSTART:20251102T050000
END:STANDARD
BEGIN:DAYLIGHT
TZOFFSETFROM:-0400
TZOFFSETTO:-0300
TZNAME:ADT
DTSTART:20260308T060000
END:DAYLIGHT
BEGIN:STANDARD
TZOFFSETFROM:-0300
TZOFFSETTO:-0400
TZNAME:AST
DTSTART:20261101T050000
END:STANDARD
BEGIN:DAYLIGHT
TZOFFSETFROM:-0400
TZOFFSETTO:-0300
TZNAME:ADT
DTSTART:20270314T060000
END:DAYLIGHT
BEGIN:STANDARD
TZOFFSETFROM:-0300
TZOFFSETTO:-0400
TZNAME:AST
DTSTART:20271107T050000
END:STANDARD
END:VTIMEZONE
BEGIN:VEVENT
DTSTART;TZID=America/Halifax:20260214T000000
DTEND;TZID=America/Halifax:20260215T235959
DTSTAMP:20260422T152138
CREATED:20260122T193649Z
LAST-MODIFIED:20260316T195909Z
UID:13060-1771027200-1771199999@foxysbar.com
SUMMARY:JOST LOVE — February 14\, 2026
DESCRIPTION:[vc_row][vc_column][vc_empty_space][/vc_column][/vc_row][vc_row][vc_column width=”1/3″][vc_column_text css=””] \nJost Love — Valentine’s Day at Foxy’s\nGreat Harbour — Jost Van Dyke \nFoxy’s Tamarind Bar\, February 14\, 7:00 pm \nLove is in the air at Foxy’s Jost Love event Saturday\, February 14. \nJoin us for this unforgettable Valentine’s Day celebration in the heart of the BVI. \nJost Love brings romance\, rhythm\, and island magic together for one special night for you and your loved ones. \n[/vc_column_text][vc_empty_space height=”14px”][vc_single_image image=”13427″ img_size=”large” alignment=”center” onclick=”link_image” css=””][vc_empty_space height=”10px”][vc_column_text css=””] \nJost Love Dinner Special\nAs always\, guests are invited to enjoy Foxy’s Famous Beach BBQ. \nIt’s the familiar Foxy’s experience you know and love\, with some special surprises for you and your special someone. \n[/vc_column_text][vc_empty_space height=”14px”][vc_single_image image=”12991″ img_size=”large” alignment=”center” onclick=”link_image”][vc_empty_space height=”10px”][vc_column_text css=””] \nFor Jost Love\, the menu is expanded with a few thoughtful additions created especially for Valentine’s Day. \nGuests can indulge in our unique Jost Love Valentine’s Day Specials\, including grilled strip loin steak\, tender ribs\, jerk chicken\, and fresh lobster salad\, paired with chef-prepared seasonal sides. \nFinish the evening with decadent desserts such as brownies with vanilla ice cream\, chocolate-dipped strawberries\, and classic apple pie. \n[/vc_column_text][vc_column_text css=””] \nLive Performances\n[/vc_column_text][vc_empty_space height=”14px”][vc_column_text css=””] \nhttps://foxysbar.com/wp-content/uploads/2026/01/Tanya-Stephens.mp4\n[/vc_column_text][vc_empty_space height=”10px”][vc_column_text css=””]Tanya Stephens will be bringing her iconic voice and commanding stage presence to Great Harbour. \nOne of Jamaica’s most celebrated reggae and dancehall artists\, she is known for her powerful performances\, sharp lyricism\, and timeless hits that resonate across generations. \nWith a career spanning decades and international acclaim\, Tanya Stephens delivers an electrifying yet soulful experience—setting the perfect tone for a night of romance\, rhythm\, and island magic.[/vc_column_text][vc_empty_space height=”20px”][/vc_column][vc_column width=”1/3″][vc_empty_space height=”14px”][vc_single_image image=”12994″ img_size=”large” alignment=”center” onclick=”link_image” css=””][vc_empty_space height=”10px”][vc_column_text css=””] \nMelanie Amaro will bring her powerhouse vocals and heartfelt stage presence to Jost Love Valentine’s Day at Foxy’s. \nThe American singer\, now based in Tortola\, British Virgin Islands\, rose to international fame with her powerful and emotive performances\, ultimately becoming the winner of Season 1 of The X Factor USA. \nKnown for her ability to connect deeply with audiences\, Melanie delivers soul-stirring renditions that perfectly complement the romance and intimacy of the evening\, making her performance a standout moment of this special Valentine’s Day celebration. \n[/vc_column_text][vc_empty_space height=”14px”][vc_single_image image=”12978″ img_size=”large” alignment=”center” onclick=”link_image” css=””][vc_empty_space height=”10px”][vc_column_text css=””]DJ Dre will be playing a mix of popular hits and Caribbean favorites! He will be setting the soundtrack for a night of fun\, rhythm\, and love.[/vc_column_text][vc_empty_space height=”14px”][vc_single_image image=”13454″ img_size=”large” alignment=”center” onclick=”link_image” css=””][vc_empty_space height=”10px”][vc_column_text css=””]Kamau will be serenading the crowd with his saxophone for some Soca and jazz songs throughout the evening. [/vc_column_text][vc_empty_space height=”14px”][vc_single_image image=”13455″ img_size=”large” alignment=”center” onclick=”link_image” css=””][vc_empty_space height=”10px”][vc_column_text css=””]Shanique Marie\, Jamaican singer and songwriter\, will be performing her own special mix of reggae\, jazz\, and R&B. [/vc_column_text][vc_empty_space height=”14px”][vc_single_image image=”13456″ img_size=”large” alignment=”center” onclick=”link_image” css=””][vc_empty_space height=”10px”][vc_column_text css=””]Cal J will bring a vibrant energy to the event as he performs his classic covers and fan-favorite originals. [/vc_column_text][vc_empty_space height=”14px”][vc_single_image image=”12979″ img_size=”large” alignment=”center” onclick=”link_image” css=””][vc_empty_space height=”10px”][vc_column_text css=””]MC Rashidi will be hosting this evening full of fun\, love\, and romance––the perfect usher to keep the energy high\, guide the night’s celebrations\, and ensure guests enjoy every aspect of the Jost Love experience![/vc_column_text][vc_empty_space height=”20px”][/vc_column][vc_column width=”1/3″][vc_column_text css=””] \nExperiences\n[/vc_column_text][vc_empty_space height=”10px”][vc_column_text css=””]Love Boat Special –– $180 per couple \nSeated BBQ Dinner for two. \nUpper Crust VIP –– $300 per person \nTable overlooking the stage\, all-inclusive food and unlimited drinks. \nAt Jost Love you’re not just getting dinner and a show\, you’re getting dinner\, a show\, and a view! \nUpper Deck VIP –– $400 per couple \nTable for two with an elevated view of the stage\, waitress service\, dinner\, a bottle of wine or champagne\, and entry. \nEnjoy the privacy of the Upper Deck and the panoramic view of the live performances.[/vc_column_text][vc_empty_space height=”25px”][vc_raw_html css=””]JTNDaWZyYW1lJTIwc3JjJTNEJTIyaHR0cHMlM0ElMkYlMkZ3d3cuZXZlbnRicml0ZS5jb20lMkZjaGVja291dC1leHRlcm5hbCUzRmVpZCUzRDE5ODA2NzgwNTAzNjclMjZwYXJlbnQlM0RodHRwcyUyNTNBJTI1MkYlMjUyRnd3dy5ldmVudGJyaXRlLmNvbSUyNTJGZSUyNTJGam9zdC1sb3ZlLXRpY2tldHMtMTk4MDY3ODA1MDM2NyUyNTNGYWZmJTI1M0RlYmRzc2JkZXN0c2VhcmNoJTI2bW9kYWwlM0QxJTI2YWZmJTNEZWJkc3NiZGVzdHNlYXJjaCUyNnN0YWJsZUlEJTNEYTljNjhlNzMtZDliMS00N2FiLTgzMzctN2EyYmFkOTY2YTYzJTIyJTIwdGl0bGUlM0QlMjJUSUNLRVRTJTIyJTIwd2lkdGglM0QlMjI0MDAlMjIlMjBoZWlnaHQlM0QlMjIxNTAwJTIyJTNFJTNDJTJGaWZyYW1lJTNF[/vc_raw_html][vc_column_text css=””] \nFor Special Ferry rates contact: \nCall / WhatsApp: 1-284-442-1700 \nEmail: jostlimeanddine@bvitourism.com[/vc_column_text][vc_empty_space height=”20px”][/vc_column][/vc_row][vc_row][vc_column][vc_column_text] \n[/vc_column_text][/vc_column][/vc_row][vc_row][vc_column][/vc_column][/vc_row]
URL:https://foxysbar.com/event/jost-love-2026/
LOCATION:Foxy’s Bar\, Great Harbour\, Jost Van Dyke\, BVI VG\, 1160\, Virgin Islands (British)
CATEGORIES:Upcoming Events
END:VEVENT
BEGIN:VEVENT
DTSTART;TZID=America/Halifax:20260314T000000
DTEND;TZID=America/Halifax:20260314T235959
DTSTAMP:20260422T152138
CREATED:20260204T184316Z
LAST-MODIFIED:20260316T200021Z
UID:13358-1773446400-1773532799@foxysbar.com
SUMMARY:GLOW IN THE DARK PARTY — March 14\, 2026
DESCRIPTION:[vc_row][vc_column][vc_empty_space height=”2px”][/vc_column][/vc_row][vc_row][vc_column width=”1/3″][vc_empty_space height=”20px”][vc_column_text css=””]Great Harbour — Jost Van Dyke\nFoxy’s Tamarind Bar\, March 14\, 2026[/vc_column_text][vc_column_text css=””] \nFREE ADMISSION\n[/vc_column_text][vc_empty_space height=”16px”][vc_single_image image=”13545″ img_size=”large” alignment=”center” onclick=”link_image” css=””][vc_empty_space height=”10px”][vc_column_text css=””]Foxy’s Glow in the Dark Party is the finale event for this year’s Jost Lime & Dine!  \nJoin us in celebrating all the remarkable culinary experiences\, music\, and culture Jost Lime & Dine events have to offer.   \nBe sure to wear white\, and Foxy’s will provide all the glow gear! [/vc_column_text][vc_column_text css=””] \nYOUR DINING EXPERIENCE\n[/vc_column_text][vc_empty_space height=”16px”][vc_column_text css=””] \nhttps://foxysbar.com/wp-content/uploads/2026/01/20260117_Foxys_BBQ_720_V13-1.mp4\n[/vc_column_text][vc_empty_space height=”10px”][vc_column_text css=””]Jost Lime & Dine features the most delicious and creative Caribbean flavors.  \nFor this event\, we will be serving a Great Harbour staple: Foxy’s Famous Beach BBQ.  \nA classic\, yet unique assortment of all the soulful and vibrant tastes of the Caribbean that you love\, carefully curated by our team of chefs. [/vc_column_text][vc_empty_space height=”10px”][/vc_column][vc_column width=”1/3″][vc_empty_space height=”10px”][vc_column_text css=””] \nENTERTAINMENT\n[/vc_column_text][vc_empty_space height=”16px”][vc_single_image image=”13297″ img_size=”large” alignment=”center” onclick=”link_image” css=””][vc_column_text css=””] \nTurbulence\nTurbulence will be performing his powerful reggae and dancehall music all night long.   \nThis Jamaican artist has strong gospel influences in his music\, making every performance uplifting and inspiring.  [/vc_column_text][vc_empty_space height=”16px”][vc_single_image image=”13304″ img_size=”large” alignment=”center” onclick=”link_image” css=””][vc_column_text css=””] \nMarcus Mark\nMarcus “Young Blood” Mark will be bringing all the best SOCA.   \nIf you love Calypso\, you won’t want to miss the 2024 Calypso Monarch performing live! [/vc_column_text][vc_column_text css=””] \nDJ Dean\nDJ Dean will be keeping the energy up all night.   \nThese lively performances are a great way to culminate all the fun of the Jost Lime & Dine celebrations. [/vc_column_text][vc_empty_space height=”10px”][/vc_column][vc_column width=”1/3″][vc_empty_space height=”10px”][vc_column_text css=””] \nGETTING TO JOST VAN DYKE\n[/vc_column_text][vc_column_text css=””]New Horizon Ferry runs every Friday and Saturday during Jost Lime & Dine:  \n\nDeparts West End\, Tortola: 6:30 PM \nReturns from JVD: 10:45 PM \n\n[/vc_column_text][vc_empty_space height=”1px”][vc_column_text css=”.vc_custom_1771270960833{padding-right: 5px !important;padding-left: 5px !important;background-color: #E148D200 !important;border-radius: 2px !important;border-color: #FF55F100 !important;}” el_class=”pink-textbox”]Dinner guests can take advantage of a $20 round-trip nighttime ferry special with confirmed reservations.  \nBooking required through the BVI Tourist Board:  \nCall / WhatsApp: 1-284-442-1700 \nEmail: jostlimeanddine@bvitourism.com [/vc_column_text][vc_empty_space height=”20px”][vc_single_image image=”13331″ img_size=”large” alignment=”center” onclick=”link_image” css=””][vc_empty_space height=”10px”][vc_column_text css=””]Wrap up Jost Lime & Dine where it belongs—right in the heart of JVD\, under the lights\, at Foxy’s. Glow on! [/vc_column_text][vc_empty_space height=”10px”][/vc_column][/vc_row][vc_row][vc_column][vc_empty_space height=”25px”][/vc_column][/vc_row]
URL:https://foxysbar.com/event/glow-in-the-dark-party-march-14-2026/
LOCATION:Foxy’s Bar\, Great Harbour\, Jost Van Dyke\, BVI VG\, 1160\, Virgin Islands (British)
CATEGORIES:Upcoming Events
END:VEVENT
END:VCALENDAR